Workbook

Sheet Detail
B1: ATTACHMENT C: SUMMARY AND DETAILED BUDGET
B3: ='Summary Budget'!B2 -> PMI Uganda Malaria Reduction Activity
B5: ='Summary Budget'!B4 -> [Organization Name]
B7: DETAIL BUDGET: [Period]
H8: 1 USD = | I8: 3870
B9: I SALARIES
B11: Local Staff | C11: Monthly Base Salary (UGX) | D11: No. of Months | E11: % Level of Effort | H11: Total (UGX) | I11: Total (USD)
B12: [Position title and name] | H12: =C12*D12*E12 -> 0 | I12: =H12/$I$8 -> 0
B13: [Position title and name] | H13: =C13*D13*E13 -> 0 | I13: =H13/$I$8 -> 0
B14: [Position title and name] | H14: =C14*D14*E14 -> 0 | I14: =H14/$I$8 -> 0
B15: [Position title and name] | H15: =C15*D15*E15 -> 0 | I15: =H15/$I$8 -> 0
B16: [Position title and name] | H16: =C16*D16*E16 -> 0 | I16: =H16/$I$8 -> 0
B17: Total SALARIES | H17: =SUM(H12:H16) -> 0 | I17: =H17/$I$8 -> 0
B19: II FRINGE BENEFITS
B21: Fringe Benefit | C21: Fringe Base | D21: Fringe % | H21: Total (UGX) | I21: Total (USD)
B22: Fringe benefit #1 | H22: =C22*D22 -> 0 | I22: =H22/$I$8 -> 0
B23: Fringe benefit #2 | H23: =C23*D23 -> 0 | I23: =H23/$I$8 -> 0
B24: Fringe benefit #3 | H24: =C24*D24 -> 0 | I24: =H24/$I$8 -> 0
B25: Fringe benefit #4 | H25: =C25*D25 -> 0 | I25: =H25/$I$8 -> 0
B26: Total FRINGE BENEFITS | H26: =SUM(H22:H25) -> 0 | I26: =H26/$I$8 -> 0
B28: III TRAVEL, TRANSPORTATION & PERDIEM
B30: Travel Description | C30: Unit Cost | D30: Quantity | E30: Description | F30: Quantity | G30: Description | H30: Total (UGX) | I30: Total (USD)
B31: Travel line item #1 | H31: =PRODUCT(C31:G31) -> 0 | I31: =H31/$I$8 -> 0
B32: Travel line item #2 | H32: =PRODUCT(C32:G32) -> 0 | I32: =H32/$I$8 -> 0
B33: Travel line item #3 | H33: =PRODUCT(C33:G33) -> 0 | I33: =H33/$I$8 -> 0
B34: Travel line item #4 | H34: =PRODUCT(C34:G34) -> 0 | I34: =H34/$I$8 -> 0
B35: Travel line item #5 | H35: =PRODUCT(C35:G35) -> 0 | I35: =H35/$I$8 -> 0
B36: Travel line item #6 | H36: =PRODUCT(C36:G36) -> 0 | I36: =H36/$I$8 -> 0
B37: Travel line item #7 | H37: =PRODUCT(C37:G37) -> 0 | I37: =H37/$I$8 -> 0
B38: Total TRAVEL, TRANSPORT & PERDIEM | H38: =SUM(H31:H37) -> 0 | I38: =H38/$I$8 -> 0
B40: IV EQUIPMENT, MATERIALS, SUPPLIES (EMS)
B42: EMS Description | C42: Unit Cost | D42: Quantity | E42: Description | F42: Quantity | G42: Description | H42: Total (UGX) | I42: Total (USD)
B43: EMS line item #1 | H43: =PRODUCT(C43:G43) -> 0 | I43: =H43/$I$8 -> 0
B44: EMS line item #2 | H44: =PRODUCT(C44:G44) -> 0 | I44: =H44/$I$8 -> 0
B45: EMS line item #3 | H45: =PRODUCT(C45:G45) -> 0 | I45: =H45/$I$8 -> 0
B46: EMS line item #4 | H46: =PRODUCT(C46:G46) -> 0 | I46: =H46/$I$8 -> 0
B47: EMS line item #5 | H47: =PRODUCT(C47:G47) -> 0 | I47: =H47/$I$8 -> 0
B48: EMS line item #6 | H48: =PRODUCT(C48:G48) -> 0 | I48: =H48/$I$8 -> 0
B49: EMS line item #7 | H49: =PRODUCT(C49:G49) -> 0 | I49: =H49/$I$8 -> 0
B50: Total EQUIPMENT, MATERIALS, SUPPLIES | H50: =SUM(H43:H49) -> 0 | I50: =H50/$I$8 -> 0
B52: V OTHER DIRECT COSTS (ODCs)
B54: General ODCs | C54: Unit Cost | D54: Quantity | E54: Description | F54: Quantity | G54: Description | H54: Total (UGX) | I54: Total (USD)
B55: ODC line item #1 | H55: =PRODUCT(C55:G55) -> 0 | I55: =H55/$I$8 -> 0
B56: ODC line item #2 | H56: =PRODUCT(C56:G56) -> 0 | I56: =H56/$I$8 -> 0
B57: ODC line item #3 | H57: =PRODUCT(C57:G57) -> 0 | I57: =H57/$I$8 -> 0
B58: ODC line item #4 | H58: =PRODUCT(C58:G58) -> 0 | I58: =H58/$I$8 -> 0
B59: ODC line item #5 | H59: =PRODUCT(C59:G59) -> 0 | I59: =H59/$I$8 -> 0
B60: ODC line item #6 | H60: =PRODUCT(C60:G60) -> 0 | I60: =H60/$I$8 -> 0
B61: ODC line item #7 | H61: =PRODUCT(C61:G61) -> 0 | I61: =H61/$I$8 -> 0
B62: ODC line item #8 | H62: =PRODUCT(C62:G62) -> 0 | I62: =H62/$I$8 -> 0
B63: ODC line item #9 | H63: =PRODUCT(C63:G63) -> 0 | I63: =H63/$I$8 -> 0
B64: ODC line item #10 | H64: =PRODUCT(C64:G64) -> 0 | I64: =H64/$I$8 -> 0
B65: Total ODCs | H65: =SUM(H55:H64) -> 0 | I65: =H65/$I$8 -> 0
B67: VI PROGRAM ACTIVITIES
B69: Activity Name 1 | C69: Unit Cost | D69: Quantity | E69: Description | F69: Quantity | G69: Description | H69: Total (UGX) | I69: Total (USD)
B70: ODC line item #1 | H70: =PRODUCT(C70:G70) -> 0 | I70: =H70/$I$8 -> 0
B71: ODC line item #2 | H71: =PRODUCT(C71:G71) -> 0 | I71: =H71/$I$8 -> 0
B72: ODC line item #3 | H72: =PRODUCT(C72:G72) -> 0 | I72: =H72/$I$8 -> 0
B73: ODC line item #4 | H73: =PRODUCT(C73:G73) -> 0 | I73: =H73/$I$8 -> 0
B74: ODC line item #5 | H74: =PRODUCT(C74:G74) -> 0 | I74: =H74/$I$8 -> 0
B75: ODC line item #6 | H75: =PRODUCT(C75:G75) -> 0 | I75: =H75/$I$8 -> 0
B76: ODC line item #7 | H76: =PRODUCT(C76:G76) -> 0 | I76: =H76/$I$8 -> 0
B77: ODC line item #8 | H77: =PRODUCT(C77:G77) -> 0 | I77: =H77/$I$8 -> 0
B78: ODC line item #9 | H78: =PRODUCT(C78:G78) -> 0 | I78: =H78/$I$8 -> 0
B79: ODC line item #10 | H79: =PRODUCT(C79:G79) -> 0 | I79: =H79/$I$8 -> 0
B80: Total Activity Cost | H80: =SUM(H70:H79) -> 0 | I80: =H80/$I$8 -> 0
B82: Activity Name 2 | C82: Unit Cost | D82: Quantity | E82: Description | F82: Quantity | G82: Description | H82: Total (UGX) | I82: Total (USD)
B83: ODC line item #1 | H83: =PRODUCT(C83:G83) -> 0 | I83: =H83/$I$8 -> 0
B84: ODC line item #2 | H84: =PRODUCT(C84:G84) -> 0 | I84: =H84/$I$8 -> 0
B85: ODC line item #3 | H85: =PRODUCT(C85:G85) -> 0 | I85: =H85/$I$8 -> 0
B86: ODC line item #4 | H86: =PRODUCT(C86:G86) -> 0 | I86: =H86/$I$8 -> 0
B87: ODC line item #5 | H87: =PRODUCT(C87:G87) -> 0 | I87: =H87/$I$8 -> 0
B88: ODC line item #6 | H88: =PRODUCT(C88:G88) -> 0 | I88: =H88/$I$8 -> 0
B89: ODC line item #7 | H89: =PRODUCT(C89:G89) -> 0 | I89: =H89/$I$8 -> 0
B90: ODC line item #8 | H90: =PRODUCT(C90:G90) -> 0 | I90: =H90/$I$8 -> 0
B91: ODC line item #9 | H91: =PRODUCT(C91:G91) -> 0 | I91: =H91/$I$8 -> 0
B92: ODC line item #10 | H92: =PRODUCT(C92:G92) -> 0 | I92: =H92/$I$8 -> 0
B93: Total Activity Cost | H93: =SUM(H83:H92) -> 0 | I93: =H93/$I$8 -> 0
B96: Activity Name 3 | C96: Unit Cost | D96: Quantity | E96: Description | F96: Quantity | G96: Description | H96: Total (UGX) | I96: Total (USD)
B97: ODC line item #1 | H97: =PRODUCT(C97:G97) -> 0 | I97: =H97/$I$8 -> 0
B98: ODC line item #2 | H98: =PRODUCT(C98:G98) -> 0 | I98: =H98/$I$8 -> 0
B99: ODC line item #3 | H99: =PRODUCT(C99:G99) -> 0 | I99: =H99/$I$8 -> 0
B100: ODC line item #4 | H100: =PRODUCT(C100:G100) -> 0 | I100: =H100/$I$8 -> 0
B101: ODC line item #5 | H101: =PRODUCT(C101:G101) -> 0 | I101: =H101/$I$8 -> 0
B102: ODC line item #6 | H102: =PRODUCT(C102:G102) -> 0 | I102: =H102/$I$8 -> 0
B103: ODC line item #7 | H103: =PRODUCT(C103:G103) -> 0 | I103: =H103/$I$8 -> 0
B104: ODC line item #8 | H104: =PRODUCT(C104:G104) -> 0 | I104: =H104/$I$8 -> 0
B105: ODC line item #9 | H105: =PRODUCT(C105:G105) -> 0 | I105: =H105/$I$8 -> 0
B106: ODC line item #10 | H106: =PRODUCT(C106:G106) -> 0 | I106: =H106/$I$8 -> 0
B107: Total Activity Cost | H107: =SUM(H97:H106) -> 0 | I107: =H107/$I$8 -> 0
B109: Activity Name 4 | C109: Unit Cost | D109: Quantity | E109: Description | F109: Quantity | G109: Description | H109: Total (UGX) | I109: Total (USD)
B110: ODC line item #1 | H110: =PRODUCT(C110:G110) -> 0 | I110: =H110/$I$8 -> 0
B111: ODC line item #2 | H111: =PRODUCT(C111:G111) -> 0 | I111: =H111/$I$8 -> 0
B112: ODC line item #3 | H112: =PRODUCT(C112:G112) -> 0 | I112: =H112/$I$8 -> 0
B113: ODC line item #4 | H113: =PRODUCT(C113:G113) -> 0 | I113: =H113/$I$8 -> 0
B114: ODC line item #5 | H114: =PRODUCT(C114:G114) -> 0 | I114: =H114/$I$8 -> 0
B115: ODC line item #6 | H115: =PRODUCT(C115:G115) -> 0 | I115: =H115/$I$8 -> 0
B116: ODC line item #7 | H116: =PRODUCT(C116:G116) -> 0 | I116: =H116/$I$8 -> 0
B117: ODC line item #8 | H117: =PRODUCT(C117:G117) -> 0 | I117: =H117/$I$8 -> 0
B118: ODC line item #9 | H118: =PRODUCT(C118:G118) -> 0 | I118: =H118/$I$8 -> 0
...

Sheet Summary Budget
B2: PMI Uganda Malaria Reduction Activity
B4: [Organization Name]
B6: SUMMARY BUDGET: [Period]
C7: 1 USD = | D7: 3600
B8: LINE ITEM | C8: BUDGET (UGX) | D8: BUDGET (USD)
B10: I SALARIES | C10: =Detail!H17 -> 0 | D10: =C10/$D$7 -> 0
B12: II FRINGE BENEFITS | C12: =Detail!H26 -> 0 | D12: =C12/$D$7 -> 0
B14: III TRAVEL, TRANSPORTATION & PERDIEM | C14: =Detail!H38 -> 0 | D14: =C14/$D$7 -> 0
B16: IV EQUIPMENT, MATERIALS, SUPPLIES | C16: =Detail!H50 -> 0 | D16: =C16/$D$7 -> 0
B18: V OTHER DIRECT COSTS | C18: =Detail!H65 -> 0 | D18: =C18/$D$7 -> 0
D19: =C19/$D$7 -> 0
B20: VI PROGRAM ACTIVITIES | C20: =Detail!H176 -> 0 | D20: =C20/$D$7 -> 0
C21: = | D21: =
B22: GRAND TOTAL | C22: =Detail!H178 -> 0 | D22: =C22/$D$7 -> 0
