Workbook

Sheet Detail
B1: ATTACHMENT C: SUMMARY AND DETAILED BUDGET
B3: ='Summary Budget'!B2 -> PMI Uganda Malaria Reduction Activity
B5: ='Summary Budget'!B4 -> [Organization Name]
B7: DETAIL BUDGET: [Period]
H8: 1 USD = | I8: 3870
B9: I SALARIES
B11: Local Staff | C11: Monthly Base Salary (UGX) | D11: No. of Months | E11: % Level of Effort | H11: Total (UGX) | I11: Total (USD)
B12: [Position title and name] | H12: =C12*D12*E12 -> 0 | I12: =H12/$I$8 -> 0
B13: [Position title and name] | H13: =C13*D13*E13 -> 0 | I13: =H13/$I$8 -> 0
B14: [Position title and name] | H14: =C14*D14*E14 -> 0 | I14: =H14/$I$8 -> 0
B15: [Position title and name] | H15: =C15*D15*E15 -> 0 | I15: =H15/$I$8 -> 0
B16: [Position title and name] | H16: =C16*D16*E16 -> 0 | I16: =H16/$I$8 -> 0
B17: Total SALARIES | H17: =SUM(H12:H16) -> 0 | I17: =H17/$I$8 -> 0
B19: II FRINGE BENEFITS
B21: Fringe Benefit | C21: Fringe Base | D21: Fringe % | H21: Total (UGX) | I21: Total (USD)
B22: Fringe benefit #1 | H22: =C22*D22 -> 0 | I22: =H22/$I$8 -> 0
B23: Fringe benefit #2 | H23: =C23*D23 -> 0 | I23: =H23/$I$8 -> 0
B24: Fringe benefit #3 | H24: =C24*D24 -> 0 | I24: =H24/$I$8 -> 0
B25: Fringe benefit #4 | H25: =C25*D25 -> 0 | I25: =H25/$I$8 -> 0
B26: Total FRINGE BENEFITS | H26: =SUM(H22:H25) -> 0 | I26: =H26/$I$8 -> 0
B28: III TRAVEL, TRANSPORTATION & PERDIEM
B30: Travel Description | C30: Unit Cost | D30: Quantity | E30: Description | F30: Quantity | G30: Description | H30: Total (UGX) | I30: Total (USD)
B31: Travel line item #1 | H31: =PRODUCT(C31:G31) -> 0 | I31: =H31/$I$8 -> 0
B32: Travel line item #2 | H32: =PRODUCT(C32:G32) -> 0 | I32: =H32/$I$8 -> 0
B33: Travel line item #3 | H33: =PRODUCT(C33:G33) -> 0 | I33: =H33/$I$8 -> 0
B34: Travel line item #4 | H34: =PRODUCT(C34:G34) -> 0 | I34: =H34/$I$8 -> 0
B35: Travel line item #5 | H35: =PRODUCT(C35:G35) -> 0 | I35: =H35/$I$8 -> 0
B36: Travel line item #6 | H36: =PRODUCT(C36:G36) -> 0 | I36: =H36/$I$8 -> 0
B37: Travel line item #7 | H37: =PRODUCT(C37:G37) -> 0 | I37: =H37/$I$8 -> 0
B38: Total TRAVEL, TRANSPORT & PERDIEM | H38: =SUM(H31:H37) -> 0 | I38: =H38/$I$8 -> 0
B40: IV EQUIPMENT, MATERIALS, SUPPLIES (EMS)
B42: EMS Description | C42: Unit Cost | D42: Quantity | E42: Description | F42: Quantity | G42: Description | H42: Total (UGX) | I42: Total (USD)
B43: EMS line item #1 | H43: =PRODUCT(C43:G43) -> 0 | I43: =H43/$I$8 -> 0
B44: EMS line item #2 | H44: =PRODUCT(C44:G44) -> 0 | I44: =H44/$I$8 -> 0
B45: EMS line item #3 | H45: =PRODUCT(C45:G45) -> 0 | I45: =H45/$I$8 -> 0
B46: EMS line item #4 | H46: =PRODUCT(C46:G46) -> 0 | I46: =H46/$I$8 -> 0
B47: EMS line item #5 | H47: =PRODUCT(C47:G47) -> 0 | I47: =H47/$I$8 -> 0
B48: EMS line item #6 | H48: =PRODUCT(C48:G48) -> 0 | I48: =H48/$I$8 -> 0
B49: EMS line item #7 | H49: =PRODUCT(C49:G49) -> 0 | I49: =H49/$I$8 -> 0
B50: Total EQUIPMENT, MATERIALS, SUPPLIES | H50: =SUM(H43:H49) -> 0 | I50: =H50/$I$8 -> 0
...

Sheet Summary Budget
B2: PMI Uganda Malaria Reduction Activity
B4: [Organization Name]
B6: SUMMARY BUDGET: [Period]
C7: 1 USD = | D7: 3600
B8: LINE ITEM | C8: BUDGET (UGX) | D8: BUDGET (USD)
B10: I SALARIES | C10: =Detail!H17 -> 0 | D10: =C10/$D$7 -> 0
B12: II FRINGE BENEFITS | C12: =Detail!H26 -> 0 | D12: =C12/$D$7 -> 0
B14: III TRAVEL, TRANSPORTATION & PERDIEM | C14: =Detail!H38 -> 0 | D14: =C14/$D$7 -> 0
B16: IV EQUIPMENT, MATERIALS, SUPPLIES | C16: =Detail!H50 -> 0 | D16: =C16/$D$7 -> 0
B18: V OTHER DIRECT COSTS | C18: =Detail!H65 -> 0 | D18: =C18/$D$7 -> 0
D19: =C19/$D$7 -> 0
B20: VI PROGRAM ACTIVITIES | C20: =Detail!H176 -> 0 | D20: =C20/$D$7 -> 0
C21: = | D21: =
B22: GRAND TOTAL | C22: =Detail!H178 -> 0 | D22: =C22/$D$7 -> 0
